BEGIN:VCALENDAR
VERSION:2.0
PRODID:-//OGV Fischbach - ECPv6.15.20//NONSGML v1.0//EN
CALSCALE:GREGORIAN
METHOD:PUBLISH
X-WR-CALNAME:OGV Fischbach
X-ORIGINAL-URL:https://ogv-fischbach.de
X-WR-CALDESC:Veranstaltungen für OGV Fischbach
REFRESH-INTERVAL;VALUE=DURATION:PT1H
X-Robots-Tag:noindex
X-PUBLISHED-TTL:PT1H
BEGIN:VTIMEZONE
TZID:Europe/Berlin
BEGIN:DAYLIGHT
TZOFFSETFROM:+0100
TZOFFSETTO:+0200
TZNAME:CEST
DTSTART:20250330T010000
END:DAYLIGHT
BEGIN:STANDARD
TZOFFSETFROM:+0200
TZOFFSETTO:+0100
TZNAME:CET
DTSTART:20251026T010000
END:STANDARD
BEGIN:DAYLIGHT
TZOFFSETFROM:+0100
TZOFFSETTO:+0200
TZNAME:CEST
DTSTART:20260329T010000
END:DAYLIGHT
BEGIN:STANDARD
TZOFFSETFROM:+0200
TZOFFSETTO:+0100
TZNAME:CET
DTSTART:20261025T010000
END:STANDARD
BEGIN:DAYLIGHT
TZOFFSETFROM:+0100
TZOFFSETTO:+0200
TZNAME:CEST
DTSTART:20270328T010000
END:DAYLIGHT
BEGIN:STANDARD
TZOFFSETFROM:+0200
TZOFFSETTO:+0100
TZNAME:CET
DTSTART:20271031T010000
END:STANDARD
END:VTIMEZONE
BEGIN:VEVENT
DTSTART;TZID=Europe/Berlin:20260425T150000
DTEND;TZID=Europe/Berlin:20260426T120000
DTSTAMP:20260425T013658
CREATED:20260412T194525Z
LAST-MODIFIED:20260412T194854Z
UID:3040-1777129200-1777204800@ogv-fischbach.de
SUMMARY:Rettershof anno 1792
DESCRIPTION:„La République nous appelle!“ \nAm Rettershof  anno 1792 Vorführungen für Groß und Klein \nAm Samstag\, 25. April 2026\, 16 Uhr  (Führungen am Samstag in Deutsch & Französisch!): Treffpunkt am Haupttor Rettershof  – Kostproben aus eigener Brennerei und Ausschank des Obst- und Gartenbauvereins. Ab 16:30 Uhr: Die mit Pferden bespannte Artillerie des 1er Rég. d‘Artillerie à Pied fährt vor. Kurze Einführung in die Zeitepoche\, anschließend Vorführung der historischen Kanone oberhalb des Schlosshotels und Führung durch das Lager \nSonntag\, 26. April\, 10:30 Uhr / 11 Uhr: Vorführung der Artillerie oberhalb des Schlosshotels Jedes Schulkind kennt die Schlagworte „Freiheit\, Gleichheit und Brüderlichkeit“. \nIm Herbst 1792 wurde erstmals auch die Region Schauplatz der Auseinandersetzungen. So kam es am Rettershof zu einer letzten Verteidigungslinie der neuen Republikaner. Zum fünften Mal nun wird das zeitgenössische 1er Rég. d‘Artillerie à Pied von 1791 mit seiner originalen Ausrüstung zu Gast sein. \nAnno 1792
URL:https://ogv-fischbach.de/event/rettershof-anno-1792/
LOCATION:Lagerort der französischen Truppen am Rettershof\, 5CCH+H3J Kelkheim (Taunus)\, Kelkheim\, Hessen\, 65779\, Germany
CATEGORIES:Historisches
ATTACH;FMTTYPE=image/jpeg:https://ogv-fischbach.de/wp-content/uploads/2025/04/IMG_1322-scaled.jpeg
ORGANIZER;CN="Stiftung Historische Kommission f%C3%BCr die Rheinlande 1789-1815":MAILTO:info stiftung-hkr.info
END:VEVENT
BEGIN:VEVENT
DTSTART;TZID=Europe/Berlin:20260425T160000
DTEND;TZID=Europe/Berlin:20260425T220000
DTSTAMP:20260425T013658
CREATED:20260327T211038Z
LAST-MODIFIED:20260327T214237Z
UID:3024-1777132800-1777154400@ogv-fischbach.de
SUMMARY:Vorentscheid Kelkheimer Apfelweinmeisterschaft
DESCRIPTION:Es ist wieder soweit – Der Kelkheimer König des Apfelweins 2026 wird gesucht. Egal ob vermeintlich alter Hase oder gerade frisch am Start beim Äppler – Traut euch und zeigt\, was in eurem Werk steckt. \nBedingungen: Alle Apfelwein Produzenten aus Kelkheim können sich für den Vorentscheid anmelden. Anmeldeschluẞ ist der 20.04.26. Die Bewerbungen sind an Aebbelwoi-Stadtmeister@web.de zu richten\nAm 24.04. (Freitag) zwischen 18.00 und 19:00 Uhr sollen mindestens  5 Liter des teilnehmen Äbblers am Rettershof vorbei gebracht werden. Falls die Anmeldungen eine gewisse Anzahl überschreiten\, wird nur eine Probe aus einer Familie/ Haushalt zugelassen.\nAm 25.04. geht es um 16:00 Uhr los.\nAlle Apfelweine werden von den Teilnehmenden in einer Blindprobe (2 Durchgänge) selbst bewertet. Und zwar nach Aussehen\, Geruch\, Geschmack und Abgang.\nDie besten 8 Apfelweine werden dann am 17.05. in einer öffentlichen Probe während des Stadtmarkts von allen interessierten Besuchern verkostet und mit Chips bewertet. Der Apfelwein bzw. sein Prodzunt mit den meisten Chips wird dann zum 10. Kelkheimer Äbbelwoi-Stadtmeister gekürt.
URL:https://ogv-fischbach.de/event/vorentscheid-kelkheimer-apfelweinmeisterschaft/
LOCATION:Kelterhaus\, Rettershof 4\, Kelkheim-Fischbach\, 65779\, Deutschland
CATEGORIES:Brauchtum,Historisches,Zukunft Streuobst
ATTACH;FMTTYPE=image/png:https://ogv-fischbach.de/wp-content/uploads/2026/03/Hessischer-Apfelwein-im-Sonnenschein.png
END:VEVENT
END:VCALENDAR